BEGIN:VCALENDAR
VERSION:2.0
PRODID:-//wp-events-plugin.com//7.2.3.1//EN
TZID:Europe/Berlin
X-WR-TIMEZONE:Europe/Berlin
BEGIN:VEVENT
UID:1-136@dmg-ev.de
DTSTART;TZID=Europe/Berlin:20241106T180000
DTEND;TZID=Europe/Berlin:20241106T193000
DTSTAMP:20240924T100114Z
URL:https://www.dmg-ev.de/veranstaltungen/vortragsreihe-klimakommunikation
 -klima-und-gesellschaft-im-wandel-7/
SUMMARY:Vortragsreihe "Klimakommunikation - Klima und Gesellschaft im Wande
 l"
DESCRIPTION:Dr. Christian Scharun (Wissenschaftlicher Autor bei MaiThink X)
 :\n\nKomplexe Klimakrise - Herausforderungen und Chancen in Zeiten des Wan
 dels\n\nIn einer Welt\, die vom rapide voranschreitenden Klimawandel gepr
 ägt ist\, stehen wir vor einer der größten Herausforderungen unserer Ze
 it. Während Debatten über Verzicht und Beeinträchtigung das Thema domin
 ieren\, könnte der Weg raus aus der Dauerkrise ein ganz anderer sein: Mit
  einer klaren und positiven Kommunikation der Notwendigkeiten und einem Bl
 ick auf die unzähligen Chancen in den Bereichen Mobilität\, Energieverso
 rgung\, Wärme und vielen anderen\, könnten die uns die Themen Klimaschut
 z und Energiewende in Zukunft wieder leichter fallen.\n\n
CATEGORIES:FA Klimakommunikation
LOCATION:https://us06web.zoom.us/j/89323674616
END:VEVENT
BEGIN:VTIMEZONE
TZID:Europe/Berlin
X-LIC-LOCATION:Europe/Berlin
BEGIN:STANDARD
DTSTART:20241027T020000
TZOFFSETFROM:+0200
TZOFFSETTO:+0100
TZNAME:CET
END:STANDARD
END:VTIMEZONE
END:VCALENDAR