BEGIN:VCALENDAR
VERSION:2.0
PRODID:-//wp-events-plugin.com//7.2.3.1//EN
TZID:Europe/Berlin
X-WR-TIMEZONE:Europe/Berlin
BEGIN:VEVENT
UID:1-122@dmg-ev.de
DTSTART;TZID=Europe/Berlin:20240626T180000
DTEND;TZID=Europe/Berlin:20240626T193000
DTSTAMP:20240530T094012Z
URL:https://www.dmg-ev.de/veranstaltungen/vortragsreihe-klimakommunikation
 -klima-und-gesellschaft-im-wandel-5/
SUMMARY:Vortragsreihe "Klimakommunikation - Klima und Gesellschaft im Wande
 l"
DESCRIPTION:Dr. Uwe Krüger\, Universität Leipzig\, Institut für Kommunik
 ations- und Medienwissenschaft:\n\nReklame für Klimakiller: Wie Fernseh- 
 und YouTube-Werbung den Medienstaatsvertrag verletzt\n\nIm Medienstaatsver
 trag gibt es eine Vorschrift\, dass Werbung keine Verhaltensweisen förder
 n darf\, die den Schutz der Umwelt gefährden. Wie aber sieht die reale We
 rbepraxis aus? Die Studie „Reklame für Klimakiller“ analysiert zur Be
 antwortung dieser Frage das klimaschädliche Potential von Fernseh- und Yo
 uTube-Werbung. Sie zeigt auf\, für welche Güter die größten deutschen 
 Fernsehsender und YouTube-Kanäle werben\, wie emissionsstark die beworben
 en Produkte sind und mit welchen Strategien ihre Klimaschädlichkeit unsic
 htbar gemacht oder sogar ins Gegenteil verkehrt werden. Ergebnis: Von knap
 p 10.000 analysierten Werbespots appelliert rund jeder Dritte an die Zusch
 auer*innen\, klimaschädliche Waren und Dienstleistungen zu erwerben bzw. 
 zu konsumieren. Uwe Krüger geht auch auf die Möglichkeiten von Medienpol
 itik\, Medienaufsicht und Zivilgesellschaft ein\, Werbung für klimaschäd
 liche Güter strenger zu regulieren.\n\n
CATEGORIES:FA Klimakommunikation
LOCATION:https://us06web.zoom.us/j/87225113142
END:VEVENT
BEGIN:VTIMEZONE
TZID:Europe/Berlin
X-LIC-LOCATION:Europe/Berlin
BEGIN:DAYLIGHT
DTSTART:20240331T030000
TZOFFSETFROM:+0100
TZOFFSETTO:+0200
TZNAME:CEST
END:DAYLIGHT
END:VTIMEZONE
END:VCALENDAR