BEGIN:VCALENDAR
VERSION:2.0
PRODID:-//wp-events-plugin.com//7.2.3.1//EN
TZID:Europe/Berlin
X-WR-TIMEZONE:Europe/Berlin
BEGIN:VEVENT
UID:1-167@dmg-ev.de
DTSTART;TZID=Europe/Berlin;VALUE=DATE:20250528
DTEND;TZID=Europe/Berlin;VALUE=DATE:20250602
DTSTAMP:20241210T124938Z
URL:https://www.dmg-ev.de/veranstaltungen/stumeta-2025/
SUMMARY:StuMeTa 2025
DESCRIPTION:Die StuMeTa 2025 findet in Hamburg statt. Weitere Information u
 nd genaue Veranstaltungsorte folgen auf der eigenen Webseite: https://stum
 eta.net/
CATEGORIES:Junge DMG
LOCATION:Universität Hamburg - Meteorologisches Institut\, Bundesstr. 55\,
   Hamburg\, 20146\, Deutschland
X-APPLE-STRUCTURED-LOCATION;VALUE=URI;X-ADDRESS=Bundesstr. 55\,  Hamburg\, 
 20146\, Deutschland;X-APPLE-RADIUS=100;X-TITLE=Universität Hamburg - Mete
 orologisches Institut:geo:0,0
END:VEVENT
BEGIN:VTIMEZONE
TZID:Europe/Berlin
X-LIC-LOCATION:Europe/Berlin
BEGIN:DAYLIGHT
DTSTART:20250330T030000
TZOFFSETFROM:+0100
TZOFFSETTO:+0200
TZNAME:CEST
END:DAYLIGHT
END:VTIMEZONE
END:VCALENDAR