BEGIN:VCALENDAR
VERSION:2.0
PRODID:-//wp-events-plugin.com//7.2.3.1//EN
TZID:Europe/Berlin
X-WR-TIMEZONE:Europe/Berlin
BEGIN:VEVENT
UID:1-91@dmg-ev.de
DTSTART;TZID=Europe/Berlin;VALUE=DATE:20240508
DTEND;TZID=Europe/Berlin;VALUE=DATE:20240513
DTSTAMP:20240310T162111Z
URL:https://www.dmg-ev.de/veranstaltungen/stumeta-2024/
SUMMARY:StuMeTa 2024
DESCRIPTION:Alle Infos zur StuMeTa 2024 in Leipzig sind hier zu finden.
CATEGORIES:Junge DMG
LOCATION:Leipziger Institut für Meteorologie - LIM\, Stephanstr. 3\, Leipz
 ig\, 04103\, Deutschland
X-APPLE-STRUCTURED-LOCATION;VALUE=URI;X-ADDRESS=Stephanstr. 3\, Leipzig\, 0
 4103\, Deutschland;X-APPLE-RADIUS=100;X-TITLE=Leipziger Institut für Mete
 orologie - LIM:geo:0,0
END:VEVENT
BEGIN:VTIMEZONE
TZID:Europe/Berlin
X-LIC-LOCATION:Europe/Berlin
BEGIN:DAYLIGHT
DTSTART:20240331T030000
TZOFFSETFROM:+0100
TZOFFSETTO:+0200
TZNAME:CEST
END:DAYLIGHT
END:VTIMEZONE
END:VCALENDAR