BEGIN:VCALENDAR
VERSION:2.0
PRODID:-//wp-events-plugin.com//7.2.3.1//EN
TZID:Europe/Berlin
X-WR-TIMEZONE:Europe/Berlin
BEGIN:VEVENT
UID:1-42@dmg-ev.de
DTSTART;TZID=Europe/Berlin:20231116T200000
DTEND;TZID=Europe/Berlin:20231116T210000
DTSTAMP:20231103T140818Z
URL:https://www.dmg-ev.de/veranstaltungen/stammtisch/
SUMMARY:Stammtisch
DESCRIPTION:Meteorologie Master im Ausland
CATEGORIES:Junge DMG
LOCATION:http://www.dmg-ev.de
END:VEVENT
BEGIN:VTIMEZONE
TZID:Europe/Berlin
X-LIC-LOCATION:Europe/Berlin
BEGIN:STANDARD
DTSTART:20231029T020000
TZOFFSETFROM:+0200
TZOFFSETTO:+0100
TZNAME:CET
END:STANDARD
END:VTIMEZONE
END:VCALENDAR