BEGIN:VCALENDAR
VERSION:2.0
PRODID:-//wp-events-plugin.com//7.2.3.1//EN
TZID:Europe/Berlin
X-WR-TIMEZONE:Europe/Berlin
BEGIN:VEVENT
UID:1-130@dmg-ev.de
DTSTART;TZID=Europe/Berlin:20241023T173000
DTEND;TZID=Europe/Berlin:20241023T203000
DTSTAMP:20240709T192614Z
URL:https://www.dmg-ev.de/veranstaltungen/science-slam/
SUMMARY:Science Slam
DESCRIPTION:Am 23. Oktober wird die jDMG in Kooperation mit UPAS einen hybr
 iden Science-Slam veranstalten.
CATEGORIES:Junge DMG
END:VEVENT
BEGIN:VTIMEZONE
TZID:Europe/Berlin
X-LIC-LOCATION:Europe/Berlin
BEGIN:DAYLIGHT
DTSTART:20240331T030000
TZOFFSETFROM:+0100
TZOFFSETTO:+0200
TZNAME:CEST
END:DAYLIGHT
END:VTIMEZONE
END:VCALENDAR