BEGIN:VCALENDAR
VERSION:2.0
PRODID:-//wp-events-plugin.com//7.2.3.1//EN
TZID:Europe/Berlin
X-WR-TIMEZONE:Europe/Berlin
BEGIN:VEVENT
UID:1-203@dmg-ev.de
DTSTART;TZID=Europe/Berlin:20250507T173000
DTEND;TZID=Europe/Berlin:20250507T190000
DTSTAMP:20250425T064211Z
URL:https://www.dmg-ev.de/veranstaltungen/pub-quiz/
SUMMARY:Pub Quiz
DESCRIPTION:Die jDMG veranstaltet ihr erstes hybrides Pub Quiz. Bring deine
  Quiz-Freunde mit oder suche dir Vorort ein schlaues Team und wir werden 
 über den Abend sehen\, welcher Uni-Standort der schlauste ist. \n\nTeilne
 hmende Standorte sind: Berlin\, Leipzig\, Hamburg\, München\, Köln\, Bon
 n\, Mainz und Karlsruhe \n\n
CATEGORIES:Junge DMG
END:VEVENT
BEGIN:VTIMEZONE
TZID:Europe/Berlin
X-LIC-LOCATION:Europe/Berlin
BEGIN:DAYLIGHT
DTSTART:20250330T030000
TZOFFSETFROM:+0100
TZOFFSETTO:+0200
TZNAME:CEST
END:DAYLIGHT
END:VTIMEZONE
END:VCALENDAR