BEGIN:VCALENDAR
VERSION:2.0
PRODID:-//wp-events-plugin.com//7.2.3.1//EN
TZID:Europe/Berlin
X-WR-TIMEZONE:Europe/Berlin
BEGIN:VEVENT
UID:1-92@dmg-ev.de
DTSTART;TZID=Europe/Berlin:20240312T173000
DTEND;TZID=Europe/Berlin:20240312T180000
DTSTAMP:20240311T115221Z
URL:https://www.dmg-ev.de/veranstaltungen/plenarvortrag-dkt-taking-the-pul
 se-of-our-planet-with-safe-and-just-planetary-boundaries-johann-rockstroem
 -potsdam-institut-fuer-klimafolgenforschung/
SUMMARY:Plenarvortrag DKT: Taking the pulse of our planet with safe and jus
 t Planetary Boundaries (Johann Rockström\, Potsdam Institut für Klimafol
 genforschung)
DESCRIPTION:Im Rahmen der DKT findet ein Plenarvortrag statt!\n\nAbstract: 
 We are coming off the back of yet another record climate year: 2023 was th
 e warmest on record\, globally\, fuelling devastating heatwaves\, skyrocke
 ting ocean-heat content\, catastrophic Mediterranean storms and ravaging w
 ildfires in Greece\, Canada and Hawaii. The scientific community has also 
 confirmed that the Earth system has now crossed 6 of 9 Planetary Boundarie
 s\, and the Amazon rainforest and Atlantic circulation tipping points may 
 be even closer than we think.\n\nThe climate realities and scientific adva
 nces of this and recent years pose fundamental questions: are we witnessin
 g the breakdown in the resilience of our planet? Is our Earth system appro
 aching tipping points\, beyond which large-scale\, catastrophic change wil
 l become irreversible? How can we steer our planet back within safe Planet
 ary Boundaries that respect the fundamental needs and rights of all people
 ? And how can the international community safeguard not just shared resour
 ces\, but critical functions of the Earth system?\n\nThis presentation wil
 l take a look at how state-of-the-art science is measuring the health of o
 ur planet and honing its understanding of the critical processes that dete
 rmine its future.\n\nDie Veranstaltung wird auch über Zoom Webinar übert
 ragen
CATEGORIES:Allgemein DMG,FA Klimakommunikation
LOCATION:Potsdam Telegrafenberg - Wissenschaftspark Albert Einstein\,  Haus
  H\, Potsdam\, 14473\, Deutschland
X-APPLE-STRUCTURED-LOCATION;VALUE=URI;X-ADDRESS= Haus H\, Potsdam\, 14473\,
  Deutschland;X-APPLE-RADIUS=100;X-TITLE=Potsdam Telegrafenberg - Wissensch
 aftspark Albert Einstein:geo:0,0
END:VEVENT
BEGIN:VTIMEZONE
TZID:Europe/Berlin
X-LIC-LOCATION:Europe/Berlin
BEGIN:STANDARD
DTSTART:20231029T020000
TZOFFSETFROM:+0200
TZOFFSETTO:+0100
TZNAME:CET
END:STANDARD
END:VTIMEZONE
END:VCALENDAR