BEGIN:VCALENDAR
VERSION:2.0
PRODID:-//wp-events-plugin.com//7.2.3.1//EN
TZID:Europe/Berlin
X-WR-TIMEZONE:Europe/Berlin
BEGIN:VEVENT
UID:1-117@dmg-ev.de
DTSTART;TZID=Europe/Berlin:20240521T163000
DTEND;TZID=Europe/Berlin:20240521T183000
DTSTAMP:20240513T170048Z
URL:https://www.dmg-ev.de/veranstaltungen/online-vortrag-essener-klimagesp
 raeche-prof-quaas/
SUMMARY:Online Vortrag: Essener Klimagespräche (Prof. Quaas)
DESCRIPTION:Professor Dr. Johannes Quaas\, Universität Leipzig\, Institut 
 für Meteorologie:\n\n„Der Einfluss der anthropogenen Aerosole auf die S
 trahlungsbilanz der Erde: Grundlagen\, Entwicklung der letzten Jahrzehnte\
 , Ausblick“\n\nFlyer mit Zugangslink (webex)\, aktualisiert am 13.05. (n
 euer webex-Link): EKG_Quaas_20240521
CATEGORIES:Sektion Rheinland
LOCATION:https://susan-lieh-company.de/essener_klimagespraeche_01.html
END:VEVENT
BEGIN:VTIMEZONE
TZID:Europe/Berlin
X-LIC-LOCATION:Europe/Berlin
BEGIN:DAYLIGHT
DTSTART:20240331T030000
TZOFFSETFROM:+0100
TZOFFSETTO:+0200
TZNAME:CEST
END:DAYLIGHT
END:VTIMEZONE
END:VCALENDAR