BEGIN:VCALENDAR
VERSION:2.0
PRODID:-//wp-events-plugin.com//7.2.3.1//EN
TZID:Europe/Berlin
X-WR-TIMEZONE:Europe/Berlin
BEGIN:VEVENT
UID:1-199@dmg-ev.de
DTSTART;TZID=Europe/Berlin:20250703T150000
DTEND;TZID=Europe/Berlin:20250703T160000
DTSTAMP:20250630T105406Z
URL:https://www.dmg-ev.de/veranstaltungen/online-seminarserie-kuenstliche-
 intelligenz-in-der-hydrometeorologie-3/
SUMMARY:Online-Seminarserie: Künstliche Intelligenz in der Hydrometeorolog
 ie
DESCRIPTION:Julius Polz (KIT): KI-Anwendungen für die Niederschlagsmessung
  mit kommerziellen Richtfunkstrecken - Von Qualitätskontrolle bis Interpo
 lation (AI Applications for Rainfall Estimation with Commercial Microwave 
 Links – From Quality Control to Interpolation)
CATEGORIES:FA Hydrometeorologie
LOCATION:https://uni-bonn.zoom-x.de/j/67265546395?pwd=lAlQlpxXrFB45IFLnEEpw
 Mvbzlbibz.1
END:VEVENT
BEGIN:VTIMEZONE
TZID:Europe/Berlin
X-LIC-LOCATION:Europe/Berlin
BEGIN:DAYLIGHT
DTSTART:20250330T030000
TZOFFSETFROM:+0100
TZOFFSETTO:+0200
TZNAME:CEST
END:DAYLIGHT
END:VTIMEZONE
END:VCALENDAR