BEGIN:VCALENDAR
VERSION:2.0
PRODID:-//wp-events-plugin.com//7.2.3.1//EN
TZID:Europe/Berlin
X-WR-TIMEZONE:Europe/Berlin
BEGIN:VEVENT
UID:1-158@dmg-ev.de
DTSTART;TZID=Europe/Berlin:20241216T190000
DTEND;TZID=Europe/Berlin:20241216T213000
DTSTAMP:20241112T131042Z
URL:https://www.dmg-ev.de/veranstaltungen/mitgliederversammlung-und-weihna
 chtsfeier/
SUMMARY:Mitgliederversammlung und Weihnachtsfeier
DESCRIPTION:Die jDMG läd zur jährlichen online Mitgliederversammlung mit 
 anschließendem Zusammenkommen ein. \n
CATEGORIES:Junge DMG
LOCATION:http://Zoom
END:VEVENT
BEGIN:VTIMEZONE
TZID:Europe/Berlin
X-LIC-LOCATION:Europe/Berlin
BEGIN:STANDARD
DTSTART:20241027T020000
TZOFFSETFROM:+0200
TZOFFSETTO:+0100
TZNAME:CET
END:STANDARD
END:VTIMEZONE
END:VCALENDAR