BEGIN:VCALENDAR
VERSION:2.0
PRODID:-//wp-events-plugin.com//7.2.3.1//EN
TZID:Europe/Berlin
X-WR-TIMEZONE:Europe/Berlin
BEGIN:VEVENT
UID:1-210@dmg-ev.de
DTSTART;TZID=Europe/Berlin:20250527T153000
DTEND;TZID=Europe/Berlin:20250527T170000
DTSTAMP:20250519T082445Z
URL:https://www.dmg-ev.de/veranstaltungen/mitgliederversammlung-dmg-sektio
 n-muenchen/
SUMMARY:Mitgliederversammlung DMG Sektion München
DESCRIPTION:Tagesordnung\n\n 	Begrüßung und Feststellung der Beschlussfä
 higkeit\n 	Festsetzung der Tagesordnung\n 	Annahme des Protokolls der letz
 ten Mitgliederversammlung\n 	Bericht des Vorsitzenden\n 	Bericht des Kasse
 nwarts (R. Busen)\n 	Bericht der Kassenprüfer (Schüttler/Wagner)\n 	En
 tlastung des Vorstands\n 	Kurze Info zu kommenden Projekten/Aufgaben der S
 ektion\nFortbildungstag 2025\nDKT 2027\nNeue Geschäftsordnung\nStellv. Vo
 rsitzender &amp\; Kassenprüfer\n 	Anträge\n 	Sonstiges\n
CATEGORIES:Sektion München
LOCATION:Meteorologisches Institut der Universität München (MIM) - Hörsa
 al B101\, Theresienstraße 39\, München\, 80333\, Deutschland
X-APPLE-STRUCTURED-LOCATION;VALUE=URI;X-ADDRESS=Theresienstraße 39\, Münc
 hen\, 80333\, Deutschland;X-APPLE-RADIUS=100;X-TITLE=Meteorologisches Inst
 itut der Universität München (MIM) - Hörsaal B101:geo:0,0
END:VEVENT
BEGIN:VTIMEZONE
TZID:Europe/Berlin
X-LIC-LOCATION:Europe/Berlin
BEGIN:DAYLIGHT
DTSTART:20250330T030000
TZOFFSETFROM:+0100
TZOFFSETTO:+0200
TZNAME:CEST
END:DAYLIGHT
END:VTIMEZONE
END:VCALENDAR