BEGIN:VCALENDAR
VERSION:2.0
PRODID:-//wp-events-plugin.com//7.2.3.1//EN
TZID:Europe/Berlin
X-WR-TIMEZONE:Europe/Berlin
BEGIN:VEVENT
UID:1-222@dmg-ev.de
DTSTART;TZID=Europe/Berlin:20251010T103000
DTEND;TZID=Europe/Berlin:20251010T140000
DTSTAMP:20250802T155655Z
URL:https://www.dmg-ev.de/veranstaltungen/metnet-2025/
SUMMARY:MetNet 2025
DESCRIPTION:@UniHamburg\n\nWann: Freitag\, 10.10.2025\, ab 10:30 Uhr\n\nWo:
  Bundesstraße 53\, 20146 Hamburg\, Raum 22/23 – oder per Zoom\n\nDie De
 utsche Meteorologische Gesellschaft Sektion Norddeutschland lädt alle her
 zlich zur Jobmesse METNET 2025 ein. Bereits zum fünften Mal bringt sie di
 e Berufswelt und Studierende der Meteorologie zusammen. Kurze Impulsvortr
 äge von potenziellen Arbeitgebern geben einen Einblick in die vielseitige
 n Jobmöglichkeiten. Die anschließende Postersession bietet Raum zum dire
 kten persönlichen Austausch:\n\n10:30 - 12:30 Impulsvorträge von Unterne
 hmen (~10min pro Präsentation)\n\n12:45 – 14:00 Postersession mit Getr
 änken und Snacks\n\nMöchten Sie als Teilnehmer dabei sein oder ein Unter
 nehmen vorstellen? Dann bitte einfach unter: https://terminplaner.dfn.de/T
 yZkXUg7E2EivoMJ anmelden. Weitere Informationen folgen und das detailliert
 e Programm wird Mitte September versendet.
CATEGORIES:Sektion Norddeutschland
LOCATION:Uni Hamburg\, Bundesstraße 53\, Raum 22/23\, Hamburg\, Hamburg\, 
 20146\, Deutschland
X-APPLE-STRUCTURED-LOCATION;VALUE=URI;X-ADDRESS=Bundesstraße 53\, Raum 22/
 23\, Hamburg\, Hamburg\, 20146\, Deutschland;X-APPLE-RADIUS=100;X-TITLE=Un
 i Hamburg:geo:0,0
END:VEVENT
BEGIN:VTIMEZONE
TZID:Europe/Berlin
X-LIC-LOCATION:Europe/Berlin
BEGIN:DAYLIGHT
DTSTART:20250330T030000
TZOFFSETFROM:+0100
TZOFFSETTO:+0200
TZNAME:CEST
END:DAYLIGHT
END:VTIMEZONE
END:VCALENDAR