BEGIN:VCALENDAR
VERSION:2.0
PRODID:-//wp-events-plugin.com//7.2.3.1//EN
TZID:Europe/Berlin
X-WR-TIMEZONE:Europe/Berlin
BEGIN:VEVENT
UID:1-153@dmg-ev.de
DTSTART;TZID=Europe/Berlin:20250114T171500
DTEND;TZID=Europe/Berlin:20250114T180000
DTSTAMP:20241028T081244Z
URL:https://www.dmg-ev.de/veranstaltungen/meteorologisches-kolloquium-ws-2
 024-2025-06/
SUMMARY:Meteorologisches Kolloquium im WS 2024/2025
DESCRIPTION:Prof. Dr. Alexander Haumann\, Department für Geographie\, LMU\
 nA rapidly changing Southern Ocean system
ATTACH;FMTTYPE=image/jpeg:https://www.dmg-ev.de/wp-content/uploads/2024/01
 /sektion-m_banner-scaled.jpg
CATEGORIES:Sektion München
LOCATION:Meteorologisches Institut der Universität München (MIM) - Hörsa
 al B101\, Theresienstraße 39\, München\, 80333\, Deutschland
X-APPLE-STRUCTURED-LOCATION;VALUE=URI;X-ADDRESS=Theresienstraße 39\, Münc
 hen\, 80333\, Deutschland;X-APPLE-RADIUS=100;X-TITLE=Meteorologisches Inst
 itut der Universität München (MIM) - Hörsaal B101:geo:0,0
END:VEVENT
BEGIN:VTIMEZONE
TZID:Europe/Berlin
X-LIC-LOCATION:Europe/Berlin
BEGIN:STANDARD
DTSTART:20241027T020000
TZOFFSETFROM:+0200
TZOFFSETTO:+0100
TZNAME:CET
END:STANDARD
END:VTIMEZONE
END:VCALENDAR