BEGIN:VCALENDAR
VERSION:2.0
PRODID:-//wp-events-plugin.com//7.2.3.1//EN
TZID:Europe/Berlin
X-WR-TIMEZONE:Europe/Berlin
BEGIN:VEVENT
UID:1-115@dmg-ev.de
DTSTART;TZID=Europe/Berlin:20240701T141500
DTEND;TZID=Europe/Berlin:20240701T170000
DTSTAMP:20240502T120201Z
URL:https://www.dmg-ev.de/veranstaltungen/meteorologisches-kolloquium-mit-
 mitgliederversammlung-der-sektion/
SUMMARY:Meteorologisches Kolloquium mit Mitgliederversammlung der Sektion
DESCRIPTION:Carsten Linke (LfU): “Klimamodelldatennutzung und Klimawandel
 monitoring im LfU Brandenburg”\n\nDas Meteorologische Kolloquium ist ein
 e hybride Veranstaltung und kann auch über Webex verfolgt werden:\nhttps:
 //www.geo.fu-berlin.de/met/infos/veranstaltungen/index.html\n\n\nIm Anschl
 uss des Kolloquiums findet die Mitgliederversammlung der Sektion Berlin & 
 Brandenburg statt. 
CATEGORIES:Sektion Berlin und Brandenburg
LOCATION:Institut für Meteorologie - FU Berlin\,  Carl-Heinrich-Becker-Weg
  6-10\, Berlin\, 12165\, Deutschland
X-APPLE-STRUCTURED-LOCATION;VALUE=URI;X-ADDRESS= Carl-Heinrich-Becker-Weg 6
 -10\, Berlin\, 12165\, Deutschland;X-APPLE-RADIUS=100;X-TITLE=Institut fü
 r Meteorologie - FU Berlin:geo:0,0
END:VEVENT
BEGIN:VTIMEZONE
TZID:Europe/Berlin
X-LIC-LOCATION:Europe/Berlin
BEGIN:DAYLIGHT
DTSTART:20240331T030000
TZOFFSETFROM:+0100
TZOFFSETTO:+0200
TZNAME:CEST
END:DAYLIGHT
END:VTIMEZONE
END:VCALENDAR