BEGIN:VCALENDAR
VERSION:2.0
PRODID:-//wp-events-plugin.com//7.2.3.1//EN
TZID:Europe/Berlin
X-WR-TIMEZONE:Europe/Berlin
BEGIN:VEVENT
UID:1-104@dmg-ev.de
DTSTART;TZID=Europe/Berlin:20240430T171500
DTEND;TZID=Europe/Berlin:20240430T180000
DTSTAMP:20240521T122946Z
URL:https://www.dmg-ev.de/veranstaltungen/meteorologisches-kolloquium-7/
SUMMARY:Meteorologisches Kolloquium
DESCRIPTION:Prof. Dr. Christoph Thomas Fakultät für Biologie\, Chemie und
  Geowissenschaften - Mikrometeorologie\, Universität Bayreuth\nEine mikro
 meteorologische Reise in die faszinierende Welt der Rauen Unterschicht üb
 er Stadt und Wald\n\nDie Raue Unterschicht (Roughness Sublayer\, RSL) ist 
 die Schicht\, in der die Luft an die Unterlage grenzt und durch die Intera
 ktion mit einzelnen Strömungshindernissen eine Vielzahl von verschiedenen
  Wirbeln erzeugt. Das gleichzeitige Auftreten von klassisch stochastischen
  und deterministisch organisierten turbulenten Wirbeln\, sowie auch submes
 oskaligen Strukturen erzeugt sowohl Herausforderungen als auch Chancen in 
 der Analyse von atmosphärischen Transportphänomenen.\nIn dem Vortrag geh
 e ich zunächst auf aktuelle mikrometeorologische Forschung in der RSL der
  urbanen Grenzschicht in München ein\, um das Wechselspiel zwischen turbu
 lentem Lufttransport\, Luftqualität und Gebäudegeometrie darzustellen. M
 ithilfe von in-situ Turbulenzmessungen und LES Modellierung zeige ich\, da
 ss in dem geschlossenen Straßenzug der verkehrsreichen Landshuter Allee d
 ie hoch mit Stickstoffdioxid belastete Luft vor allem eine Folge der stark
  eingeschränkten turbulenten Durchmischung bei synoptisch dominierender W
 estanströmung und der hohen Verkehrsdichte ist. Aktive Luftreinigungssyst
 eme\, die von uns seit Herbst 2021 betrieben werden\, bringen keine nachwe
 isliche Verbesserung der Luftqualität im Straßenzug. Im weiteren Verlauf
  gehe ich auf turbulenten Austausch und Treibhausgasmessungen in der RSL 
 über dem peruanischen Tieflandregenwald im Oberlauf des Amazonas ein. Dur
 ch die äquatoriale Nähe sind die windschwachen Verhältnisse der Hadleyz
 elle bestimmend für den turbulenten Austausch von Impuls\, Wärme und koh
 lenstoffhaltigen Treibhausgasen zwischen Unterlage und Luft. Die inhärent
 e kleinräumige Heteorgenität des geogenen Untergrundes und der Vegetatio
 n führen zu intermittenten hohen Methanemmissionen in Staunässebereichen
 \, die das Zünglein an der Waage für die Frage über die Nettoquellen- o
 der senkenfunktion dieser Landbedeckung sein könnten. Klimaprojektionen s
 agen eine divergierende Entwicklung zwischen dem westlichen und östlichen
  Amazonasbecken voraus\, der zusätzlich den Kohlenstoffkreislauf dieses B
 ioms beeinflussen wird.
ATTACH;FMTTYPE=image/jpeg:https://www.dmg-ev.de/wp-content/uploads/2024/01
 /sektion-m_banner-scaled.jpg
CATEGORIES:Sektion München
LOCATION:Meteorologisches Institut der Universität München (MIM) - Hörsa
 al B101\, Theresienstraße 39\, München\, 80333\, Deutschland
X-APPLE-STRUCTURED-LOCATION;VALUE=URI;X-ADDRESS=Theresienstraße 39\, Münc
 hen\, 80333\, Deutschland;X-APPLE-RADIUS=100;X-TITLE=Meteorologisches Inst
 itut der Universität München (MIM) - Hörsaal B101:geo:0,0
END:VEVENT
BEGIN:VTIMEZONE
TZID:Europe/Berlin
X-LIC-LOCATION:Europe/Berlin
BEGIN:DAYLIGHT
DTSTART:20240331T030000
TZOFFSETFROM:+0100
TZOFFSETTO:+0200
TZNAME:CEST
END:DAYLIGHT
END:VTIMEZONE
END:VCALENDAR