BEGIN:VCALENDAR
VERSION:2.0
PRODID:-//wp-events-plugin.com//7.2.3.1//EN
TZID:Europe/Berlin
X-WR-TIMEZONE:Europe/Berlin
BEGIN:VEVENT
UID:1-195@dmg-ev.de
DTSTART;TZID=Europe/Berlin:20250722T171500
DTEND;TZID=Europe/Berlin:20250722T180000
DTSTAMP:20250414T145211Z
URL:https://www.dmg-ev.de/veranstaltungen/meteorologisches-kolloquium-21/
SUMMARY:Meteorologisches Kolloquium
DESCRIPTION:Prof. Dr. Stephan Pfahl\, FU Berlin\nThe relationship between c
 old fronts and warm-season convection in Germany: climatology and statisti
 cal prediction 
ATTACH;FMTTYPE=image/jpeg:https://www.dmg-ev.de/wp-content/uploads/2024/01
 /sektion-m_banner-scaled.jpg
CATEGORIES:Sektion München
LOCATION:Meteorologisches Institut der Universität München (MIM) - Hörsa
 al B101\, Theresienstraße 39\, München\, 80333\, Deutschland
X-APPLE-STRUCTURED-LOCATION;VALUE=URI;X-ADDRESS=Theresienstraße 39\, Münc
 hen\, 80333\, Deutschland;X-APPLE-RADIUS=100;X-TITLE=Meteorologisches Inst
 itut der Universität München (MIM) - Hörsaal B101:geo:0,0
END:VEVENT
BEGIN:VTIMEZONE
TZID:Europe/Berlin
X-LIC-LOCATION:Europe/Berlin
BEGIN:DAYLIGHT
DTSTART:20250330T030000
TZOFFSETFROM:+0100
TZOFFSETTO:+0200
TZNAME:CEST
END:DAYLIGHT
END:VTIMEZONE
END:VCALENDAR