BEGIN:VCALENDAR
VERSION:2.0
PRODID:-//wp-events-plugin.com//7.2.3.1//EN
TZID:Europe/Berlin
X-WR-TIMEZONE:Europe/Berlin
BEGIN:VEVENT
UID:1-162@dmg-ev.de
DTSTART;TZID=Europe/Berlin:20250210T141500
DTEND;TZID=Europe/Berlin:20250210T154500
DTSTAMP:20241115T174836Z
URL:https://www.dmg-ev.de/veranstaltungen/meteorologisches-kolloquium-13/
SUMMARY:Meteorologisches Kolloquium
DESCRIPTION:Ruud Dirksen (DWD): “Die WMO Radiosonden-Vergleichsmesskampag
 ne 2022 (UAII-22) in Lindenberg”\n\nLink zur online Übertragung unter:\
 nhttps://www.geo.fu-berlin.de/met/infos/veranstaltungen/index.html
CATEGORIES:Sektion Berlin und Brandenburg
LOCATION:Institut für Meteorologie - FU Berlin\,  Carl-Heinrich-Becker-Weg
  6-10\, Berlin\, 12165\, Deutschland
X-APPLE-STRUCTURED-LOCATION;VALUE=URI;X-ADDRESS= Carl-Heinrich-Becker-Weg 6
 -10\, Berlin\, 12165\, Deutschland;X-APPLE-RADIUS=100;X-TITLE=Institut fü
 r Meteorologie - FU Berlin:geo:0,0
END:VEVENT
BEGIN:VTIMEZONE
TZID:Europe/Berlin
X-LIC-LOCATION:Europe/Berlin
BEGIN:STANDARD
DTSTART:20241027T020000
TZOFFSETFROM:+0200
TZOFFSETTO:+0100
TZNAME:CET
END:STANDARD
END:VTIMEZONE
END:VCALENDAR