BEGIN:VCALENDAR
VERSION:2.0
PRODID:-//wp-events-plugin.com//7.2.3.1//EN
TZID:Europe/Berlin
X-WR-TIMEZONE:Europe/Berlin
BEGIN:VEVENT
UID:1-64@dmg-ev.de
DTSTART;TZID=Europe/Berlin:20240208T160000
DTEND;TZID=Europe/Berlin:20240208T170000
DTSTAMP:20240122T102112Z
URL:https://www.dmg-ev.de/veranstaltungen/kolloquiumsvortrag-m-kretschmer/
SUMMARY:Kolloquiumsvortrag M. Kretschmer
DESCRIPTION:\n\n\nAm 8. Februar 2024 findet am Institut für Meteorologie\,
  Leipzig\, ein Vortrag von Jun.-Prof. Marlene Kretschmer zum Thema „Klim
 a-Kausalität: Verknüpfung von Daten und Theorie zum Verständnis der Tre
 iber regionaler Wetterextreme“ statt. Alle interessierten Personen sind 
 herzlich eingeladen.\n\nIm Anschluss erfolgt die Mitgliederversammlung der
  Sektion Mitteldeutschland der DMG.\n\n\n
CATEGORIES:Sektion Mitteldeutschland
LOCATION:Institut für Meteorologie - Vilhelm-Bjerknes-Hörsaal\, Stephanst
 r. 3\, Leipzig\, 04103\, Deutschland
X-APPLE-STRUCTURED-LOCATION;VALUE=URI;X-ADDRESS=Stephanstr. 3\, Leipzig\, 0
 4103\, Deutschland;X-APPLE-RADIUS=100;X-TITLE=Institut für Meteorologie -
  Vilhelm-Bjerknes-Hörsaal:geo:0,0
END:VEVENT
BEGIN:VTIMEZONE
TZID:Europe/Berlin
X-LIC-LOCATION:Europe/Berlin
BEGIN:STANDARD
DTSTART:20231029T020000
TZOFFSETFROM:+0200
TZOFFSETTO:+0100
TZNAME:CET
END:STANDARD
END:VTIMEZONE
END:VCALENDAR