BEGIN:VCALENDAR
VERSION:2.0
PRODID:-//wp-events-plugin.com//7.2.3.1//EN
TZID:Europe/Berlin
X-WR-TIMEZONE:Europe/Berlin
BEGIN:VEVENT
UID:1-224@dmg-ev.de
DTSTART;TZID=Europe/Berlin:20251104T143000
DTEND;TZID=Europe/Berlin:20251104T160000
DTSTAMP:20251013T174059Z
URL:https://www.dmg-ev.de/veranstaltungen/kolloquiumsvortrag-langfristige-
 trends-von-globalstrahlung-und-wolkenbedeckung-ueber-dem-nordatlantik/
SUMMARY:Kolloquiumsvortrag: Langfristige Trends von Globalstrahlung und Wol
 kenbedeckung über dem Nordatlantik
DESCRIPTION:Dr. Hein Dieter Behr\, ex DWD-OF/CM SAF (im Ruhestand)\n\nZusam
 menfassung:\n\nDas Leben auf der Erde wird durch den Eintrag der solaren S
 trahlung (Globalstrahlung\, SIS) in das System Atmosphäre/Erde ermöglich
 t. Da die zeitlichen und räumlichen Veränderungen von SIS\, u.a. beeinfl
 usst durch den Gesamtbedeckungsgrad CFC\, klimawirksam sind\, ist deren Ke
 nntnis von besonderem Interesse. Die Studie wurde mit zwei getrennten Date
 nsätzen für jeweils SIS und CFC erstellt\, um die räumlichen und zeitli
 chen Verteilungen der langfristig signifikanten Trends von SIS (SIST) und 
 CFC (CFCT) zu untersuchen. Zudem werden die Ursachen sowie die Auswirkunge
 n der Trends auf die Umwelt diskutiert. Bei der Diskussion der Ursachen wi
 rd ein Augenmerk auf den NAO-Index (NI) gelegt. Die Auswirkungen der Trend
 s sind in den entsprechenden IPCC-Berichten vielfach erwähnt\, sie werden
  hier nur gestreift.\n\n\n\n&nbsp\;\n\nDer Vortrag findet im Hörsaal (Rau
 m 108) des Seewetteramtes\, Bernhard-Nocht-Straße 76\, 20359 Hamburg\, st
 att.\n\nAuch Nichtmitglieder der DMG sind herzlich zum Vortrag eingeladen!
  Für Interessierte\, die nicht persönlich anwesend sein können\, besteh
 t die Möglichkeit\, den Vortrag über das Meeting-Tool ZOOM auch online z
 u verfolgen. Die Zugangsdaten dafür werden rechtzeitig mit einer elektron
 ischen Terminerinnerung kurz vor dem Vortrag bekannt gegeben.\n\nIm Anschl
 uss an den Vortrag findet ein Postkolloquium statt.\n\nBitte bringen Sie b
 ei persönlichem Erscheinen für die Einlasskontrolle beim Pförtner des D
 eutschen Wetterdienstes Ihren Personalausweis oder Studierendenausweis mit
 .
CATEGORIES:Sektion Norddeutschland
LOCATION:Seewetteramt\, Bernhard-Nocht-Str. 76\, Hamburg\, 20359\, Deutschl
 and
X-APPLE-STRUCTURED-LOCATION;VALUE=URI;X-ADDRESS=Bernhard-Nocht-Str. 76\, Ha
 mburg\, 20359\, Deutschland;X-APPLE-RADIUS=100;X-TITLE=Seewetteramt:geo:0,
 0
END:VEVENT
BEGIN:VTIMEZONE
TZID:Europe/Berlin
X-LIC-LOCATION:Europe/Berlin
BEGIN:STANDARD
DTSTART:20251026T020000
TZOFFSETFROM:+0200
TZOFFSETTO:+0100
TZNAME:CET
END:STANDARD
END:VTIMEZONE
END:VCALENDAR