BEGIN:VCALENDAR
VERSION:2.0
PRODID:-//wp-events-plugin.com//7.2.3.1//EN
TZID:Europe/Berlin
X-WR-TIMEZONE:Europe/Berlin
BEGIN:VEVENT
UID:1-139@dmg-ev.de
DTSTART;TZID=Europe/Berlin:20241112T163000
DTEND;TZID=Europe/Berlin:20241112T180000
DTSTAMP:20241104T172622Z
URL:https://www.dmg-ev.de/veranstaltungen/kolloquiumsvortrag-icon-waves-oz
 ean-wellen-als-komponente-in-einem-erdsystemmodell/
SUMMARY:Kolloquiumsvortrag: ICON-waves: Ozean Wellen als Komponente in eine
 m Erdsystemmodell
DESCRIPTION:Mikhail Dobrynin\, DWD Hamburg\n\nZusammenfassung:\n\nOzeanwell
 en spielen eine entscheidende Rolle bei der Bestimmung des Zustands der Me
 eresoberfläche. Sie erzeugen zusätzliche Turbulenz und Mischung\, verän
 dern Ozeanströmungen und beeinflussen den Austausch von Wärme\, Gasen un
 d Impuls zwischen Atmosphäre und Ozean. Bisher hat das numerische Wetterv
 orhersagemodell (ICON-NWP) des Deutschen Wetterdienstes (DWD) die Wellen-i
 nduzierten Rückkopplungen und deren Auswirkungen auf die Atmosphäre und 
 den Ozean nicht explizit berücksichtigt. Aus diesem Grund wurde in den le
 tzten Jahren die neue Komponente des ICON Modellsystems\, ICON-waves\, ent
 wickelt – ein spektrales Modell für Seegangsprognosen. Die Einführung 
 von ICON-waves als seegang-gesteuerte Schnittstelle im ICON-Framework biet
 et eine einzigartige Gelegenheit\, die Modellphysik zu verbessern und die 
 Komplexität der Wechselwirkungen zwischen den Komponenten zu erhöhen. Du
 rch eine präzise Parametrisierung der durch Seegang induzierten Effekte\,
  kann der Realismus der Wechselwirkungen zwischen Atmosphäre und Ozean er
 heblich gesteigert werden. In diesem Vortrag werden die ersten Ergebnisse 
 aus eigenständigen ICON-waves und gekoppelten ICON-NWP-waves Testsimulati
 onen präsentiert.\n\n----------------------------------------------------
 ----------------------------------------------------------------\n\nDer Vo
 rtrag findet im Hörsaal (Raum 108) des Seewetteramtes\, Bernhard-Nocht-St
 raße 76\, 20359 Hamburg\, statt.\n\nFür Mitglieder\, die nicht persönli
 ch anwesend sein können\, besteht die Möglichkeit\, den Vortrag über da
 s Meeting-Tool ZOOM auch online zu verfolgen. Die Zugangsdaten werden mit 
 der Erinnerungsmail einige Tage vor dem Ereignis verschickt\, oder können
  ggf. über die Adresse dmgnord(at)dmg-ev.de erfragt werden. Auch Nichtmit
 glieder der DMG sind herzlich zum Vortrag eingeladen!\n\nIm Anschluss an d
 en Vortrag findet ein Postkolloquium statt.\n\nBitte bringen Sie zu der Ve
 ranstaltung für die Einlasskontrolle beim Pförtner des Deutschen Wetterd
 ienstes Ihren Personalausweis oder Studentenausweis mit.
CATEGORIES:Sektion Norddeutschland
LOCATION:Seewetteramt\, Bernhard-Nocht-Str. 76\, Hamburg\, 20359\, Deutschl
 and
X-APPLE-STRUCTURED-LOCATION;VALUE=URI;X-ADDRESS=Bernhard-Nocht-Str. 76\, Ha
 mburg\, 20359\, Deutschland;X-APPLE-RADIUS=100;X-TITLE=Seewetteramt:geo:0,
 0
END:VEVENT
BEGIN:VTIMEZONE
TZID:Europe/Berlin
X-LIC-LOCATION:Europe/Berlin
BEGIN:STANDARD
DTSTART:20241027T020000
TZOFFSETFROM:+0200
TZOFFSETTO:+0100
TZNAME:CET
END:STANDARD
END:VTIMEZONE
END:VCALENDAR