BEGIN:VCALENDAR
VERSION:2.0
PRODID:-//wp-events-plugin.com//7.2.3.1//EN
TZID:Europe/Berlin
X-WR-TIMEZONE:Europe/Berlin
BEGIN:VEVENT
UID:1-208@dmg-ev.de
DTSTART;TZID=Europe/Berlin:20250603T143000
DTEND;TZID=Europe/Berlin:20250603T160000
DTSTAMP:20250503T122129Z
URL:https://www.dmg-ev.de/veranstaltungen/kolloquiumsvortrag-die-wundersam
 e-drift-des-derzeit-groessten-eisbergs-der-welt/
SUMMARY:Kolloquiumsvortrag: Die wundersame Drift des derzeit größten Eisb
 ergs der Welt
DESCRIPTION:Prof. Dieter Etling\, Hannover\n\nZusammenfassung\n\nDer mit ei
 ner Fläche von der Größe Mallorcas derzeit größte Tafeleisberg der We
 lt\, bezeichnet mit der Kennung A23a\, hat im Laufe seiner Drift durch das
  Südpolarmeer öfter für Schlagzeilen in den Medien gesorgt. Nachdem er 
 1986 vom Filchner-Eisschelf abgebrochen war blieb der für mehr als 30 Jah
 re wegen seines Tiefgangs von fast 400 m auf dem Grund des Weddellmeeres s
 tecken. Nach seiner Loslösung Anfang 2020 zog er zunächst mit dem Weddel
 strom entlang der Antarktischen Halbinsel nach Norden\, bevor er im April 
 2024 in einen nahezu ortsfesten Ozeanwirbel geriet und in diesem sage und 
 schreibe für 8 Monate seine Kreise drehte. Erst im Dezember2024 kam er da
 raus frei und zog eiligst auf die viel kleinere Insel Südgeorgien zu\, wo
  er die Brutgebiete zahlreicher Tierarten zu stören drohte. Im März 2025
  lief er jedoch 70 km vor Südgeorgien wieder auf Grund und verharrt dort 
 bis heute.\n\nDie größte mediale Aufmerksamkeit wurde dem Eisberg jedoch
  wegen seiner 8 Monate währenden „Gefangenschaft“ im Ozeanwirbel zute
 il. In den Schlagzeilen dominierte der Begriff „Taylor-Säule“ als Gru
 nd für den ortsfesten Ozeanwirbel die Berichterstattung. Hierbei handelt 
 es sich um ein in der Meteorologie nahezu unbekanntes Phänomen der Ström
 ungsmechanik rotierender Fluide. Daher wird auf die Erläuterung der Taylo
 r-Säule im Vortrag ein besonderer Schwerpunkt gelegt.\n\n\n\n&nbsp\;\n\nD
 er Vortrag findet um 14:30 Uhr im Hörsaal (Raum 108) des Seewetteramtes\,
  Bernhard-Nocht-Straße 76\, 20359 Hamburg statt. Achtung: geänderte Anfa
 ngszeit!\n\nFür Mitglieder\, die nicht persönlich anwesend sein können\
 , besteht die Möglichkeit\, den Vortrag über das Meeting-Tool ZOOM auch 
 online zu verfolgen. Die Zugangsdaten werden mit der Erinnerungsmail einig
 e Tage vor dem Ereignis verschickt\, oder können ggf. über die Adresse d
 mgnord(at)dmg-ev.de erfragt werden. Auch Nichtmitglieder der DMG sind her
 zlich zum Vortrag eingeladen!\n\nIm Anschluss an den Vortrag findet ein Po
 stkolloquium statt.\n\nBitte bringen Sie zu der Veranstaltung für die Ein
 lasskontrolle beim Pförtner des Deutschen Wetterdienstes Ihren Personalau
 sweis oder Studentenausweis mit.
CATEGORIES:Sektion Norddeutschland
LOCATION:Seewetteramt\, Bernhard-Nocht-Str. 76\, Hamburg\, 20359\, Deutschl
 and
X-APPLE-STRUCTURED-LOCATION;VALUE=URI;X-ADDRESS=Bernhard-Nocht-Str. 76\, Ha
 mburg\, 20359\, Deutschland;X-APPLE-RADIUS=100;X-TITLE=Seewetteramt:geo:0,
 0
END:VEVENT
BEGIN:VTIMEZONE
TZID:Europe/Berlin
X-LIC-LOCATION:Europe/Berlin
BEGIN:DAYLIGHT
DTSTART:20250330T030000
TZOFFSETFROM:+0100
TZOFFSETTO:+0200
TZNAME:CEST
END:DAYLIGHT
END:VTIMEZONE
END:VCALENDAR