BEGIN:VCALENDAR
VERSION:2.0
PRODID:-//wp-events-plugin.com//7.2.3.1//EN
TZID:Europe/Berlin
X-WR-TIMEZONE:Europe/Berlin
BEGIN:VEVENT
UID:1-112@dmg-ev.de
DTSTART;TZID=Europe/Berlin:20240514T163000
DTEND;TZID=Europe/Berlin:20240514T180000
DTSTAMP:20240417T154456Z
URL:https://www.dmg-ev.de/veranstaltungen/kolloquiumsvortrag-beruecksichti
 gung-des-klimawandels-in-der-normung/
SUMMARY:Kolloquiumsvortrag: Berücksichtigung des Klimawandels in der Normu
 ng
DESCRIPTION:K. Heinke Schlünzen\, Universität Hamburg\nZusammenfassung:\n
 \nFür Planungsentscheidungen (z.B. Infrastruktur\, Stadt- und Regionalent
 wicklung) wurden oft Normen und Standards genutzt\, denen ein vergangenes 
 Klima zu Grunde liegt. Dabei können die Entscheidungen Auswirkungen über
  mehrere Jahrzehnte haben und die erfolgten Maßnahmen lassen sich nicht o
 hne weiteres korrigieren (z. B. Bahndämme\, Abwassersysteme). Daher sollt
 e das für die Wirkdauer der realisierten Planung relevante Klima in Norme
 n und Standards berücksichtigt werden\, um Schäden durch Klimaänderunge
 n zu vermeiden oder mindestens zu reduzieren. Der VDI (Verein Deutscher In
 genieure e.V.) hat sich zur Aufgabe gemacht\, bestehende und in Arbeit bef
 indliche VDI-Richtlinien auf nötige Modifikationen in Hinblick auf den Kl
 imawandel zu überprüfen und sie gegebenenfalls so anzupassen\, dass das 
 für die Wirkdauer relevante Klima in die Standardisierung eingeht. Das kl
 ingt einfach\, dazu müssen aber eine Reihe von Fragen beantwortet werden:
  „Was ist die Wirkdauer in einer Richtlinie?"\, „Welche Annahmen zum K
 limawandel müssen wir der Richtlinien zu Grunde legen?"\, „Wie soll vor
 gegangen werden\, um die über 2000 VDI-Richtlinien zu modifizieren?“.\n
 \nEs besteht die Möglichkeit\, den Vortrag über das Meeting-Tool ZOOM au
 ch online zu verfolgen. Die Zugangsdaten können über die Adresse dmgnord
 (at)dmg-ev.de erfragt werden.\n\nIm Anschluss an den Vortrag findet ein Po
 stkolloquium statt.
CATEGORIES:Sektion Norddeutschland
LOCATION:Bundesamt für Seeschifffahrt und Hydrographie\,  Bernhard-Nocht-S
 traße 78\,  Raum 601/602\, Hamburg\, 20359\, Deutschland
X-APPLE-STRUCTURED-LOCATION;VALUE=URI;X-ADDRESS= Bernhard-Nocht-Straße 78\
 ,  Raum 601/602\, Hamburg\, 20359\, Deutschland;X-APPLE-RADIUS=100;X-TITLE
 =Bundesamt für Seeschifffahrt und Hydrographie:geo:0,0
END:VEVENT
BEGIN:VTIMEZONE
TZID:Europe/Berlin
X-LIC-LOCATION:Europe/Berlin
BEGIN:DAYLIGHT
DTSTART:20240331T030000
TZOFFSETFROM:+0100
TZOFFSETTO:+0200
TZNAME:CEST
END:DAYLIGHT
END:VTIMEZONE
END:VCALENDAR