BEGIN:VCALENDAR
VERSION:2.0
PRODID:-//wp-events-plugin.com//7.2.3.1//EN
TZID:Europe/Berlin
X-WR-TIMEZONE:Europe/Berlin
BEGIN:VEVENT
UID:1-138@dmg-ev.de
DTSTART;TZID=Europe/Berlin:20240917T163000
DTEND;TZID=Europe/Berlin:20240917T180000
DTSTAMP:20240901T163320Z
URL:https://www.dmg-ev.de/veranstaltungen/kolloquiumsvortrag-baltic-earth-
 ein-internationales-und-interdisziplinaeres-bottom-up-erdsystemnetzwerk-fu
 er-die-ostseeregion/
SUMMARY:Kolloquiumsvortrag: Baltic Earth – Ein internationales und interd
 isziplinäres bottom-up-Erdsystemnetzwerk für die Ostseeregion
DESCRIPTION:Markus Reckermann\, Internationales Baltic Earth Sekretariat am
  Helmholz-Zentrum Hereon\, Geesthacht\n\nBaltic Earth ist ein offenes wiss
 enschaftliches Netzwerk\, das sich um ein umfassendes Verständnis des Erd
 systems unter den Bedingungen der Ostsee und ihrer Küsten und Zuflüsse b
 emüht. Eine internationale und interdisziplinäre Gemeinschaft von Forsch
 ern will durch verschiedene Forschungs- und Publikationsprojekte sowie die
  Organisation internationaler Konferenzen und Workshops dazu beitragen\, d
 ie wissenschaftliche Grundlage für ein nachhaltiges Küsten- und Umweltma
 nagement in der Region zu schaffen. Baltic Earth ist 2013 aus BALTEX hervo
 rgegangen\, das sich primär mit den physikalischen Aspekten des Erdsystem
 s beschäftigt hat\, während Baltic Earth die gesamte Palette von Meteoro
 logie\, Klimatologie\, Hydrologie\, Ozeanographie\, Biogeochemie sowie ant
 hropogenen Aspekten abzudecken versucht. Baltic Earth fokussiert sich auf 
 den Ostseeraum\, ist aber auch international\, z.B. in GEWEX\, eingebunden
 .\n\nDas besondere an Baltic Earth ist die offene\, nicht-hierarchische Or
 ganisation. Ähnlich einem Club ist Baltic Earth ein lockerer Zusammenschl
 uss von Wissenschaftlern und Institutionen aus dem gesamten Ostseeraum\, d
 ie das gemeinsame Interesse der Erforschung des Erdsystems des Ostseeraums
  zusammenbringt. Baltic Earth verfügt neben der Ausstattung des Internati
 onalen Sekretariats und freiwilliger Beiträge einiger teilnehmender Insti
 tutionen über keinerlei Förderung. Außer geringen Reise- und Publikatio
 nsmitteln sowie etwas Arbeitszeit müssen die Forscher nichts mitbringen. 
 Publikationsprojekte sowie die verschiedenen wissenschaftlichen (Konferenz
 en und Workshops) und Fortbildungsveranstaltungen (Sommer- und Winterschul
 en) werden nach dem crowdfunding-Prinzip finanziert und organisiert.\n\nIm
  Vortrag werden Geschichte und Struktur von BALTEX und Baltic Earth beschr
 ieben\, sowie verschiedene Beispiele der Zusammenarbeit und des wissenscha
 ftlichen Outputs präsentiert.\n\n----------------------------------------
 --------------------------------------------------------------------------
 --\n\nDer Vortrag findet im Hörsaal (Raum 108) des Seewetteramtes\, Bernh
 ard-Nocht-Straße 76\, 20359 Hamburg\, statt.\n\nFür Mitglieder\, die nic
 ht persönlich anwesend sein können\, besteht die Möglichkeit\, den Vort
 rag über das Meeting-Tool ZOOM auch online zu verfolgen. Die Zugangsdaten
  werden mit der Erinnerungsmail einige Tage vor dem Ereignis verschickt\, 
 oder können ggf. über die Adresse dmgnord(at)dmg-ev.de erfragt werden. A
 uch Nichtmitglieder der DMG sind herzlich zum Vortrag eingeladen!\n\nIm An
 schluss an den Vortrag findet ein Postkolloquium statt.\n\nBitte bringen S
 ie zu der Veranstaltung für die Einlasskontrolle beim Pförtner des Deuts
 chen Wetterdienstes Ihren Personalausweis oder Studentenausweis mit.
CATEGORIES:Sektion Norddeutschland
LOCATION:Seewetteramt\, Bernhard-Nocht-Str. 76\, Hamburg\, 20359\, Deutschl
 and
X-APPLE-STRUCTURED-LOCATION;VALUE=URI;X-ADDRESS=Bernhard-Nocht-Str. 76\, Ha
 mburg\, 20359\, Deutschland;X-APPLE-RADIUS=100;X-TITLE=Seewetteramt:geo:0,
 0
END:VEVENT
BEGIN:VTIMEZONE
TZID:Europe/Berlin
X-LIC-LOCATION:Europe/Berlin
BEGIN:DAYLIGHT
DTSTART:20240331T030000
TZOFFSETFROM:+0100
TZOFFSETTO:+0200
TZNAME:CEST
END:DAYLIGHT
END:VTIMEZONE
END:VCALENDAR