BEGIN:VCALENDAR
VERSION:2.0
PRODID:-//wp-events-plugin.com//7.2.3.1//EN
TZID:Europe/Berlin
X-WR-TIMEZONE:Europe/Berlin
BEGIN:VEVENT
UID:1-108@dmg-ev.de
DTSTART;TZID=Europe/Berlin:20240418T200000
DTEND;TZID=Europe/Berlin:20240418T213000
DTSTAMP:20240405T112514Z
URL:https://www.dmg-ev.de/veranstaltungen/jdmg-stammtisch-april/
SUMMARY:jDMG Stammtisch April
DESCRIPTION:Für alle die nicht auf der EGU24 in Wien sind besteht die Mög
 lichkeit sich virtuell über ZOOM zu treffen.
CATEGORIES:Junge DMG
END:VEVENT
BEGIN:VTIMEZONE
TZID:Europe/Berlin
X-LIC-LOCATION:Europe/Berlin
BEGIN:DAYLIGHT
DTSTART:20240331T030000
TZOFFSETFROM:+0100
TZOFFSETTO:+0200
TZNAME:CEST
END:DAYLIGHT
END:VTIMEZONE
END:VCALENDAR