BEGIN:VCALENDAR
VERSION:2.0
PRODID:-//wp-events-plugin.com//7.2.3.1//EN
TZID:Europe/Berlin
X-WR-TIMEZONE:Europe/Berlin
BEGIN:VEVENT
UID:1-107@dmg-ev.de
DTSTART;TZID=Europe/Berlin:20240418T181500
DTEND;TZID=Europe/Berlin:20240418T201500
DTSTAMP:20240405T112345Z
URL:https://www.dmg-ev.de/veranstaltungen/jdmg-stammisch-egu24/
SUMMARY:jDMG Stammisch @EGU24
DESCRIPTION:Die jDMG organisiert ein kleines ECS Meet-Up während der EGU24
  in Wien mit einem gemeinsamen Abendessen. Wir treffen uns gegen 18:15 vor
  dem Konferenz-Center und fahren zusammen in die Stadt. Das Wiener Deewan 
 hat uns im letzten Jahr schon mit leckeren Currys versorgt und auch dieses
  Jahr würden wir dort für uns einen Tisch reservieren. Lass uns daher ge
 rne wissen\, ob ihr dabei seid\, damit wir genug Plätze reservieren. Meld
 et euch hierfür am besten direkt bei Lisa Degenhardt oder über die jDMG 
 Mailadresse.
CATEGORIES:Junge DMG
END:VEVENT
BEGIN:VTIMEZONE
TZID:Europe/Berlin
X-LIC-LOCATION:Europe/Berlin
BEGIN:DAYLIGHT
DTSTART:20240331T030000
TZOFFSETFROM:+0100
TZOFFSETTO:+0200
TZNAME:CEST
END:DAYLIGHT
END:VTIMEZONE
END:VCALENDAR