BEGIN:VCALENDAR
VERSION:2.0
PRODID:-//wp-events-plugin.com//7.2.3.1//EN
TZID:Europe/Berlin
X-WR-TIMEZONE:Europe/Berlin
BEGIN:VEVENT
UID:1-62@dmg-ev.de
DTSTART;TZID=Europe/Berlin:20240208T200000
DTEND;TZID=Europe/Berlin:20240208T220000
DTSTAMP:20240115T064358Z
URL:https://www.dmg-ev.de/veranstaltungen/jdmg-februar-stammtisch/
SUMMARY:jDMG Februar Stammtisch
DESCRIPTION:2017 hat die DMG eine Stellungnahme zum Thema Climate Engineeri
 ng abgegeben. Darin wird von Climate Engineering durch Abschwächung der s
 olaren Einstrahlung abgeraten\, da die Unsicherheiten sehr groß sind. Au
 ßerdem rät die Stellungnahme von Feldexperimenten durch Climate Engineer
 ing ab und fordert öffentliche und transparente Grundlagenforschung auf G
 rundlage von Beobachtungen und Simulationen. Wir werden mit Johannes Quaas
 \, einem der Autoren der Stellungnahme\, über die Stellungnahme sprechen.
  Wiegen die Unsicherheiten immer noch so schwer wie 2017? Oder müssten wi
 r die Situation völlig neu bewerten?
CATEGORIES:Junge DMG
LOCATION:http://ZOOM
END:VEVENT
BEGIN:VTIMEZONE
TZID:Europe/Berlin
X-LIC-LOCATION:Europe/Berlin
BEGIN:STANDARD
DTSTART:20231029T020000
TZOFFSETFROM:+0200
TZOFFSETTO:+0100
TZNAME:CET
END:STANDARD
END:VTIMEZONE
END:VCALENDAR