BEGIN:VCALENDAR
VERSION:2.0
PRODID:-//wp-events-plugin.com//7.2.3.1//EN
TZID:Europe/Berlin
X-WR-TIMEZONE:Europe/Berlin
BEGIN:VEVENT
UID:1-113@dmg-ev.de
DTSTART;TZID=Europe/Berlin:20240531T090000
DTEND;TZID=Europe/Berlin:20240531T180000
DTSTAMP:20240417T161739Z
URL:https://www.dmg-ev.de/veranstaltungen/fortbildungsveranstaltung-am-geo
 mar-in-kiel/
SUMMARY:Fortbildungsveranstaltung am GEOMAR in Kiel
DESCRIPTION:Wir besuchen das GEOMAR Helmholtz-Zentrum für Ozeanforschung K
 iel\, eine der weltweit führenden Einrichtungen auf dem Gebiet der Meeres
 forschung. Das GEOMAR erforscht den globalen Ozean vom Meeresboden bis in 
 die Atmosphäre und deckt dabei ein einzigartiges Spektrum von physikalisc
 hen\, chemischen\, biologischen und geologischen Prozessen ab. Dabei werde
 n wir die neuen GEOMAR-Gebäude am Ostufer der Kieler Förde kennen lernen
 \, in denen seit Oktober 2023 alle vier Forschungsbereiche vereint sind\, 
 also auch die Maritime Meteorologie unter der neuen Leitung von Frau Prof.
  S. Fiedler.\n\nDas vorläufige Besuchsprogramm umfasst von 9 bis ca.15 Uh
 r Vorträge und Führungen zu den wissenschaftlichen Themen des GEOMAR\, w
 obei wir auch Teilnehmer der DMG Sektion Rheinland treffen werden:\n\n 	09
 :00-09:30 Prof. Dr. Stephanie Fiedler: Einführung in die Forschungseinhei
 t Maritime Meteorologie\n 	09:30-10:00 Dr. Franz Kanngießer: Atmosphäris
 che Fernerkundung am GEOMAR\n 	10:00-10:30 Dr. Ulrike Heine: Die UN-Ozeand
 ekade in Deutschland\n 	10:30-11:00 *Kaffeepause*\n 	11:00-11:30 Dr. Sabin
 e Bischoff: Wie der Nordatlantik Hitzewellen über Europa beeinflussen kan
 n\n 	11:30-12:00 Jun. Prof. Joakim Kjellsson: Role of the ocean mesoscale 
 for Euro-Atlantic climate\n 	12:00-13:00 *Mittagspause*\n 	13:00-14:00 Fü
 hrung Technik &amp\; Logistik Zentrum\n 	14:00-14:30 *Kaffeepause*\n 	14:3
 0-15:00 Führung Zentrales Probenlager\n\nAnschließend besteht nach einem
  kleinen Spaziergang im nahe gelegenen Café Luna die Möglichkeit zur Kon
 taktpflege und zum Erfahrungsaustausch bis max. 18 Uhr.\n\nDie Teilnahme i
 st aus organisatorischen Gründen auf 20 Personen beschränkt. Die Anmeldu
 ngen werden nach dem Eingangszeitpunkt gereiht. Überzählige Anmeldungen 
 verbleiben auf einer Nachrückerliste und werden ggf. bei Ausfällen kurzf
 ristig berücksichtigt.\n\nWir gehen davon aus\, dass die Teilnehmer ihre 
 Anreise selbst organisieren (Hinweise dazu s.u.) und auch ihre Rechnung im
  beim abschließenden Café-Besuch selbst bezahlen. Die Versorgung in den 
 Kaffeepausen und mit Mittagessen (kleine Auswahl an Fingerfood) wird freun
 dlicherweise vom GEOMAR übernommen. Daher fällt weiter keine Teilnahmege
 bühr an!\n\n! Bitte melden Sie sich bei Interesse bis spätestens Montag\
 , 29. April 2024\, verbindlich an !\n\nAntworten Sie dazu formlos entweder
  per eMail an dmgnord(at)dmg-ev.de oder per Post an DMG c/o DWD\, Bernhard
 -Nocht-Str. 76\, 20359 Hamburg. Vergessen Sie dabei bitte nicht\, uns mitz
 uteilen\, wie Sie anreisen und ggf. unterkommen werden. Danach erhalten Si
 e kurzfristig die Teilnahmezusage.\n\nBeachten Sie bitte auch folgende Hin
 weise:\n\n 	Die genaue Adresse lautet: GEOMAR\, Wischhofstr. 1-3\, Geb. 8\
 , 24148 Kiel\, Tel. 04316000\n 	Anreisende mit dem Auto finden auf dem GEO
 MAR-Gelände ausreichend Parkplätze\n 	Von Hamburg aus bietet sich folgen
 de Zugverbindung an:\n\n 	Hinfahrt: ab HH Hbf. mit RE70 um 7:19 Uhr von Gl
 eis 7G-I\; und in Kiel weiter mit Bus Linie 11 (Richtung Dietrichsdorf) od
 er Linie X60 (Richtung Fachhochschule) bis Haltestelle Seefischmarkt\n 	R
 ückfahrt: Ab Haltestelle Wellingdorf mit Bus Linie 11 (Richtung Wik Kanal
 ) um 17:54 Uhr bis Kiel Hbf.\; dort weiter mit RE70 um 18:25 Uhr nach HH H
 bf\n\n\n 	Sollten Sie von weiter her anreisen\, könnten Sie eine Übernac
 htung vom  zum 31.Mai erwägen. Dafür bietet sich insbesondere das Hotel 
 "Am Segelhafen" (Schönberger Str. 32-34) in unmittelbarer Nachbarschaft z
 um GEOMAR an. Dort ist für uns ein Optionskontingent von 10 Zimmern für 
 einen Sonderpreis (incl. Frühstücksbüffet) von 90 (Doppelzimmer mit Ein
 zelnutzung) bzw. 85 Euro (Einzelzimmer) reserviert. Zu buchen ist ein Zimm
 er zu diesen Konditionen nur per Telefon 0431 729900 oder über die Hotel-
 Homepage www.am-segelhafen-hotel.com bis zum 26.04.2024.\n 	Sollten Sie de
 nnoch an einer anderen Unterkunft interessiert sein\, findet sich eine Aus
 wahl von Unterkünften z.B. unter: https://www.geomar.de/cacti-workshop202
 3/accomodation\n 	Sie haben vermutlich alle in den letzten Tagen das Angeb
 ot der Sektion Rheinland zur Teilnahme an einer mehrtägigen Exkursion nac
 h Kiel vom 28.05. bis zum 01.06.2024 erhalten. Dabei werden neben dem GEOM
 AR am 31.05. (s.o.) an den übrigen Tagen auch andere interessante Einrich
 tungen in Kiel besucht. Dieses Angebot steht auch für Mitglieder der Sekt
 ion Norddeutschland offen. Bitte melden Sie sich dafür bei Interesse aber
  direkt bei der Sektion Rheinland an.\n
CATEGORIES:Sektion Norddeutschland
LOCATION:GEOMAR\, Wischhofstr. 1-3\, Kiel\, 24148\, Deutschland
X-APPLE-STRUCTURED-LOCATION;VALUE=URI;X-ADDRESS=Wischhofstr. 1-3\, Kiel\, 2
 4148\, Deutschland;X-APPLE-RADIUS=100;X-TITLE=GEOMAR:geo:0,0
END:VEVENT
BEGIN:VTIMEZONE
TZID:Europe/Berlin
X-LIC-LOCATION:Europe/Berlin
BEGIN:DAYLIGHT
DTSTART:20240331T030000
TZOFFSETFROM:+0100
TZOFFSETTO:+0200
TZNAME:CEST
END:DAYLIGHT
END:VTIMEZONE
END:VCALENDAR