BEGIN:VCALENDAR
VERSION:2.0
PRODID:-//wp-events-plugin.com//7.2.3.1//EN
TZID:Europe/Berlin
X-WR-TIMEZONE:Europe/Berlin
BEGIN:VEVENT
UID:1-131@dmg-ev.de
DTSTART;TZID=Europe/Berlin:20241014T093000
DTEND;TZID=Europe/Berlin:20241014T173000
DTSTAMP:20240926T115406Z
URL:https://www.dmg-ev.de/veranstaltungen/fortbildungstag-2024/
SUMMARY:Fortbildungstag 2024 "Kryosphäre"
DESCRIPTION:Hier können Sie sich hier für den Fortbildungstag der DMG Sek
 tion München zum Theme "Kryosphäre" anmelden. Der Fortbildungstag findet
  in der Residenz München statt\, anschließend können Sie an einer Führ
 ung durch die Residenz teilnehmen (Eintritt: 9€)\n\nOrt: Bayerische Akad
 emie der Wissenschaften\, Alfons-Goppel-Str. 11 (Residenz)\, 80539 Münche
 n\nTeilnehmer: max. 100\nProgramm zum Fortbildungstag "Kryosphäre"\n[tabl
 e id=3 /]\n\nNachfolgend können Sie sich für den Fortbildungstag anmelde
 n\, wählen Sie dazu die Anzahl der Tickets in der jeweiligen Kategorie. B
 itte beachten Sie\, dass bei Teilnahme an der Führung der Eintritt zur Re
 sidenz (9€/Person) vor Ort in bar eingesammelt wird. Zur Überweisung de
 r Teilnahmegebühr finden Sie die Kontoinformationen in Ihrer Bestätigung
 s-Email.\n\nFalls Sie eine User-ID bei der DMG haben\, sollten Sie sich zu
 nächst an Ihrem DMG Nutzerkonto anmelden und dann das Buchungsformular au
 sfüllen. Bei Fragen kontaktieren Sie bitte: bastian.kern@dlr.de.\n\n\n\nZ
 um Lageplan
ATTACH;FMTTYPE=image/jpeg:https://www.dmg-ev.de/wp-content/uploads/2024/08
 /nigardsbreen_2029-scaled-e1723040761848.jpg
CATEGORIES:Sektion München
LOCATION:Bayerische Akademie der Wissenschaften\, Alfons-Goppel-Str. 11 (Re
 sidenz)\, München\, 80539\, Deutschland
X-APPLE-STRUCTURED-LOCATION;VALUE=URI;X-ADDRESS=Alfons-Goppel-Str. 11 (Resi
 denz)\, München\, 80539\, Deutschland;X-APPLE-RADIUS=100;X-TITLE=Bayerisc
 he Akademie der Wissenschaften:geo:0,0
END:VEVENT
BEGIN:VTIMEZONE
TZID:Europe/Berlin
X-LIC-LOCATION:Europe/Berlin
BEGIN:DAYLIGHT
DTSTART:20240331T030000
TZOFFSETFROM:+0100
TZOFFSETTO:+0200
TZNAME:CEST
END:DAYLIGHT
END:VTIMEZONE
END:VCALENDAR