BEGIN:VCALENDAR
VERSION:2.0
PRODID:-//wp-events-plugin.com//7.2.3.1//EN
TZID:Europe/Berlin
X-WR-TIMEZONE:Europe/Berlin
BEGIN:VEVENT
UID:1-48@dmg-ev.de
DTSTART;TZID=Europe/Berlin:20240110T163000
DTEND;TZID=Europe/Berlin:20240110T193000
DTSTAMP:20240108T140351Z
URL:https://www.dmg-ev.de/veranstaltungen/filmabend-mosaic/
SUMMARY:Filmabend "Mosaic"
DESCRIPTION:An mehreren Standorten\, habt viel Spaß
CATEGORIES:Junge DMG
LOCATION:http://www.dmg-ev.de
END:VEVENT
BEGIN:VTIMEZONE
TZID:Europe/Berlin
X-LIC-LOCATION:Europe/Berlin
BEGIN:STANDARD
DTSTART:20231029T020000
TZOFFSETFROM:+0200
TZOFFSETTO:+0100
TZNAME:CET
END:STANDARD
END:VTIMEZONE
END:VCALENDAR