BEGIN:VCALENDAR
VERSION:2.0
PRODID:-//wp-events-plugin.com//7.2.3.1//EN
TZID:Europe/Berlin
X-WR-TIMEZONE:Europe/Berlin
BEGIN:VEVENT
UID:1-14@dmg-ev.de
DTSTART;TZID=Europe/Berlin;VALUE=DATE:20230927
DTEND;TZID=Europe/Berlin;VALUE=DATE:20230930
DTSTAMP:20230919T110014Z
URL:https://www.dmg-ev.de/veranstaltungen/extremwetterkongress-2023/
SUMMARY:ExtremWetterKongress 2023
DESCRIPTION:Der ExtremWetterKongress ist die führende interdisziplinäre F
 achtagung für Extremwetter im Klimawandel in Deutschland und als Dialogve
 ranstaltung zwischen Wissenschaft und Öffentlichkeit wichtiger Beitrag de
 r aktiven Klimakommunikation. Zu den Referentinnen und Referenten zählen 
 die besten Wissenschaftlerinnen und Wissenschaftler und Expertinnen und Ex
 perten. Nutzen Sie die Gelegenkeit zum Netzwerken\, persönlichen Austausc
 h und zur Arbeit an dem Themenfeld\, dessen Ereignisse nicht nur in der Ge
 genwart\, sondern auch in der Zukunft\, große Folgen und Auswirkungen auf
  unsere Gesellschaft haben wird: Extremwetter im Klimawandel.\n\nWeitere I
 nformation unter:  http://extremwetterkongress.org/
CATEGORIES:Allgemein DMG
LOCATION:Internationales Maritimes Museum Hamburg\, Koreastraße 1\, Hambur
 g\, 20457\, Deutschland
X-APPLE-STRUCTURED-LOCATION;VALUE=URI;X-ADDRESS=Koreastraße 1\, Hamburg\, 
 20457\, Deutschland;X-APPLE-RADIUS=100;X-TITLE=Internationales Maritimes M
 useum Hamburg:geo:0,0
END:VEVENT
BEGIN:VTIMEZONE
TZID:Europe/Berlin
X-LIC-LOCATION:Europe/Berlin
BEGIN:DAYLIGHT
DTSTART:20230326T030000
TZOFFSETFROM:+0100
TZOFFSETTO:+0200
TZNAME:CEST
END:DAYLIGHT
END:VTIMEZONE
END:VCALENDAR