BEGIN:VCALENDAR
VERSION:2.0
PRODID:-//wp-events-plugin.com//7.2.3.1//EN
TZID:Europe/Berlin
X-WR-TIMEZONE:Europe/Berlin
BEGIN:VEVENT
UID:1-219@dmg-ev.de
DTSTART;TZID=Europe/Berlin;VALUE=DATE:20251204
DTEND;TZID=Europe/Berlin;VALUE=DATE:20251206
DTSTAMP:20251008T134431Z
URL:https://www.dmg-ev.de/veranstaltungen/exkursion-zum-lim-tropos/
SUMMARY:Exkursion zum LIM & TROPOS
DESCRIPTION:Wir gehen unsere Leipziger Kolleg:innen besuchen!\n\n&nbsp\;\nM
 otivation:\nLeipzig ist ein hervorragender Standort sowohl für das Studiu
 m der Meteorologie und die akademische Lehre (Leipziger Institut für Mete
 orologie\, LIM) als auch für die Weiterqualifikation und projektbezogenes
  Arbeiten (Leibniz-Institut für Troposphärenforschung\, TROPOS). Beiden 
 Instituten werden wir am 4. &amp\; 5.12.2025 einen Besuch abstatten\, um m
 ehr über die dortigen wissenschaftlichen Arbeiten zu erfahren.\n\n&nbsp\;
 \nÜbersicht der Themenbereiche in Leipzig:\nLIM:\nAtmosphärische Strahlu
 ng\nMeteorologie der Hochatmosphäre\nWolken und globales Klima\nFernerkun
 dung und Arktisches Klimasystem\nAerosole und Wolken\ndrOPS – Prozessver
 ständnis durch Wolken- und Niederschlagsbeobachtungen\n\nTROPOS:\nAtmosph
 ärische Mikrophysik\nFernerkundung atmosphärischer Parameter\nChemie der
  Atmosphäre\nModellierung atmosphärischer Prozesse\n\n\nAblauf:\n4.12.20
 25\n\n07:14 ab Berlin-Hbf mit Regionalexpress via Dessau nach Leipzig\n(RE
 -Fahrten sind durch das Deutschlandticket abgedeckt\, ansonsten kann ein G
 ruppenticket gebucht werden. Individuelles Anreisen muss selbst gebucht we
 rden. )\n11:00 - 16:00 Besuch am LIM\nAbendessen (auf eigene Rechnung)\nÜ
 bernachtung Gwuni-Mopera (Frühstück als Gruppe oder als Selbstversorgung
 \, Küche vorhanden\, 25€ Doppelzimmer\, 50€ Einzelzimmer)\n\n&nbsp\;\
 n\n5.12.2025\n\n09:00-14:00 Besuch am TROPOS\n15:04 ab Leipzig-Hbf Heimfah
 rt\n17:44 an Berlin-Hbf\n\n&nbsp\;\nWeitere Informationen:\nDas gestellte 
 Frühstück der DMG-BB wird aus einfachen Lebensmitteln wie Kaffee\, Tee\,
  Milch\, Marmelade\, div. Käse\, Müsli\, Butter und Brötchen bestehen.\
 n\nSollte es Studierende geben\, die gern mitkommen\, aber sich die aktuel
 len Übernachtungskosten nicht leisten können\, so meldet euch gern bei u
 ns (dmgbb@dmg-ev.de)\, wir werden eine Lösung finden.\n\n&nbsp\;\nAnmeldu
 ng\nWir bitten bis zum 31.10.2025 um Anmeldung:\n\n[forminator_form id="11
 156"]
CATEGORIES:Sektion Berlin und Brandenburg
LOCATION:Leipziger Institut für Meteorologie - LIM\, Stephanstr. 3\, Leipz
 ig\, 04103\, Deutschland
X-APPLE-STRUCTURED-LOCATION;VALUE=URI;X-ADDRESS=Stephanstr. 3\, Leipzig\, 0
 4103\, Deutschland;X-APPLE-RADIUS=100;X-TITLE=Leipziger Institut für Mete
 orologie - LIM:geo:0,0
END:VEVENT
BEGIN:VTIMEZONE
TZID:Europe/Berlin
X-LIC-LOCATION:Europe/Berlin
BEGIN:STANDARD
DTSTART:20251026T020000
TZOFFSETFROM:+0200
TZOFFSETTO:+0100
TZNAME:CET
END:STANDARD
END:VTIMEZONE
END:VCALENDAR