BEGIN:VCALENDAR
VERSION:2.0
PRODID:-//wp-events-plugin.com//7.2.3.1//EN
TZID:Europe/Berlin
X-WR-TIMEZONE:Europe/Berlin
BEGIN:VEVENT
UID:1-212@dmg-ev.de
DTSTART;TZID=Europe/Berlin:20250903T080000
DTEND;TZID=Europe/Berlin:20250903T180000
DTSTAMP:20250623T104754Z
URL:https://www.dmg-ev.de/veranstaltungen/exkursion-zu-den-messeinrichtung
 en-der-dresdner-professur-fuer-meteorologie-und-zum-forstbotanischen-garte
 n-in-tharandt/
SUMMARY:Exkursion zu den Messeinrichtungen der Dresdner Professur für Mete
 orologie und zum Forstbotanischen Garten in Tharandt
DESCRIPTION:Die Exkursion führt nach Tharandt zur Besichtigung des Gebäud
 es und Messfeldes der Meteorologie\, zum Messfeld und der Ankerstation im 
 Tharandter Wald und zum Forstbotanischen Garten in Hartha. Das Programm k
 önnen Sie hier herunterladen hier herunterladen.\n\nWir bitten um Anmeldu
 ng bis zum 15. August unter valeri.goldberg@tu-dresden.de bzw. schriftlich
  an: \nDMG Sektion Mitteldeutschland\nc/o TU Dresden\, Professur Meteorolo
 gie\nPienner Str.23\, 01737 Tharandt.
CATEGORIES:Sektion Mitteldeutschland
END:VEVENT
BEGIN:VTIMEZONE
TZID:Europe/Berlin
X-LIC-LOCATION:Europe/Berlin
BEGIN:DAYLIGHT
DTSTART:20250330T030000
TZOFFSETFROM:+0100
TZOFFSETTO:+0200
TZNAME:CEST
END:DAYLIGHT
END:VTIMEZONE
END:VCALENDAR