BEGIN:VCALENDAR
VERSION:2.0
PRODID:-//wp-events-plugin.com//7.2.3.1//EN
TZID:Europe/Berlin
X-WR-TIMEZONE:Europe/Berlin
BEGIN:VEVENT
UID:1-292@dmg-ev.de
DTSTART;TZID=Europe/Berlin:20260428T163000
DTEND;TZID=Europe/Berlin:20260428T180000
DTSTAMP:20260419T090932Z
URL:https://www.dmg-ev.de/veranstaltungen/essener-klimagespraeche-hochaufl
 oesende-erfassung-staedtischer-waerme/
SUMMARY:Essener Klimagespräche: "Hochauflösende Erfassung städtischer W
 ärme"
DESCRIPTION:Dr. Daniel Rüdisser\, HTflux Engineering GmbH\, Graz\, Österr
 eich:\n\n"Hochauflösende Erfassung städtischer Wärme mit alternativen M
 essmethoden"\n\nFlyer mit Zugangsdaten: EKG_Ruedisser_20260428
CATEGORIES:Sektion Rheinland
LOCATION:https://www.susan-lieh-company.de/essener_klimagespraeche_01.html
END:VEVENT
BEGIN:VTIMEZONE
TZID:Europe/Berlin
X-LIC-LOCATION:Europe/Berlin
BEGIN:DAYLIGHT
DTSTART:20260329T030000
TZOFFSETFROM:+0100
TZOFFSETTO:+0200
TZNAME:CEST
END:DAYLIGHT
END:VTIMEZONE
END:VCALENDAR