BEGIN:VCALENDAR
VERSION:2.0
PRODID:-//wp-events-plugin.com//7.2.3.1//EN
TZID:Europe/Berlin
X-WR-TIMEZONE:Europe/Berlin
BEGIN:VEVENT
UID:1-187@dmg-ev.de
DTSTART;TZID=Europe/Berlin:20250408T163000
DTEND;TZID=Europe/Berlin:20250408T180000
DTSTAMP:20250405T220734Z
URL:https://www.dmg-ev.de/veranstaltungen/essener-klimagespraeche-dr-s-ben
 z-kit-von-der-fernerkundung-zur-klimaanpassung/
SUMMARY:Essener Klimagespräche: Dr. S. Benz\, KIT: Von der Fernerkundung z
 ur Klimaanpassung
DESCRIPTION:Dr. Susanne Benz\, Karlsruher Institut für Technologie (KIT)\,
  Karlsruhe: \n\n"Von der Fernerkundung zur Klimaanpassung: Datenbasierte S
 trategien für eine nachhaltige Raumplanung"\n\nonline (ZOOM): Flyer mit Z
 ugangsdaten hier: EGK_Benz_20250408_3\n\nAbbildung des Flyer: EGK_Benz_202
 50408_3_abb
CATEGORIES:Sektion Rheinland
LOCATION:https://bit.ly/4aDT2Jk
END:VEVENT
BEGIN:VTIMEZONE
TZID:Europe/Berlin
X-LIC-LOCATION:Europe/Berlin
BEGIN:DAYLIGHT
DTSTART:20250330T030000
TZOFFSETFROM:+0100
TZOFFSETTO:+0200
TZNAME:CEST
END:DAYLIGHT
END:VTIMEZONE
END:VCALENDAR