BEGIN:VCALENDAR
VERSION:2.0
PRODID:-//wp-events-plugin.com//7.2.3.1//EN
TZID:Europe/Berlin
X-WR-TIMEZONE:Europe/Berlin
BEGIN:VEVENT
UID:1-262@dmg-ev.de
DTSTART;TZID=Europe/Berlin:20251209T163000
DTEND;TZID=Europe/Berlin:20251209T180000
DTSTAMP:20251205T153651Z
URL:https://www.dmg-ev.de/veranstaltungen/essener-klimagespraeche-5/
SUMMARY:Essener Klimagespräche
DESCRIPTION:Essener Klimagespräche 09. Dezember\n\nDr. Alexander Graf\, Fo
 rschungszentrum Jülich\, Institut für Bio- und Geowissenschaften (IBG)\,
  Agrosphäre\, Jülich:\n\n"Kann Landnutzung der Erderwärmung besser durc
 h eine hohe Albedo oder stärkere CO2-Aufnahme entgegenwirken?"\n\nFlyer m
 it Zoom-Zugangsdaten: EKG_Graf_20251209\n\n&nbsp\;
CATEGORIES:Allgemein DMG,Sektion Rheinland
LOCATION:https://www.susan-lieh-company.de/essener_klimagespraeche_01.html
END:VEVENT
BEGIN:VTIMEZONE
TZID:Europe/Berlin
X-LIC-LOCATION:Europe/Berlin
BEGIN:STANDARD
DTSTART:20251026T020000
TZOFFSETFROM:+0200
TZOFFSETTO:+0100
TZNAME:CET
END:STANDARD
END:VTIMEZONE
END:VCALENDAR