BEGIN:VCALENDAR
VERSION:2.0
PRODID:-//wp-events-plugin.com//7.2.3.1//EN
TZID:Europe/Berlin
X-WR-TIMEZONE:Europe/Berlin
BEGIN:VEVENT
UID:1-40@dmg-ev.de
DTSTART;TZID=Europe/Berlin:20231114T163000
DTEND;TZID=Europe/Berlin:20231114T180000
DTSTAMP:20231103T140623Z
URL:https://www.dmg-ev.de/veranstaltungen/essener-klimagespraeche-2/
SUMMARY:Essener Klimagespräche
DESCRIPTION:„Zunehmende Sonnenscheindauer verstärkt die Klimaänderung 
 über Kontinenten“
CATEGORIES:Sektion Rheinland
LOCATION:http://www.dmg-ev.de
END:VEVENT
BEGIN:VTIMEZONE
TZID:Europe/Berlin
X-LIC-LOCATION:Europe/Berlin
BEGIN:STANDARD
DTSTART:20231029T020000
TZOFFSETFROM:+0200
TZOFFSETTO:+0100
TZNAME:CET
END:STANDARD
END:VTIMEZONE
END:VCALENDAR