BEGIN:VCALENDAR
VERSION:2.0
PRODID:-//wp-events-plugin.com//7.2.3.1//EN
TZID:Europe/Berlin
X-WR-TIMEZONE:Europe/Berlin
BEGIN:VEVENT
UID:1-88@dmg-ev.de
DTSTART;TZID=Europe/Berlin:20240313T180000
DTEND;TZID=Europe/Berlin:20240313T200000
DTSTAMP:20240228T122136Z
URL:https://www.dmg-ev.de/veranstaltungen/dmg-mitgliederversammlung-2024/
SUMMARY:DMG-Mitgliederversammlung 2024
DESCRIPTION:Die diesjährige Mitgliederversammlung der Deutschen Meteorolog
 ischen Gesellschaft findet hybrid statt.&nbsp\;\n\nVor Ort im Rahmen der D
 KT 13 in Potsdam -Telegrafenberg und online via ZOOM.\n\nFür die online T
 eilnhame ist eine Anmeldung notwendig\, die Zugangsdaten werden per E-Mail
  an die Mitglieder verschickt.&nbsp\;\n\nAnmeldung bitte unter mitglieder@
 dmg-ev.de&nbsp\;
CATEGORIES:Allgemein DMG
LOCATION:Potsdam Telegrafenberg - Wissenschaftspark Albert Einstein\,  Haus
  H\, Potsdam\, 14473\, Deutschland
X-APPLE-STRUCTURED-LOCATION;VALUE=URI;X-ADDRESS= Haus H\, Potsdam\, 14473\,
  Deutschland;X-APPLE-RADIUS=100;X-TITLE=Potsdam Telegrafenberg - Wissensch
 aftspark Albert Einstein:geo:0,0
END:VEVENT
BEGIN:VTIMEZONE
TZID:Europe/Berlin
X-LIC-LOCATION:Europe/Berlin
BEGIN:STANDARD
DTSTART:20231029T020000
TZOFFSETFROM:+0200
TZOFFSETTO:+0100
TZNAME:CET
END:STANDARD
END:VTIMEZONE
END:VCALENDAR