BEGIN:VCALENDAR
VERSION:2.0
PRODID:-//wp-events-plugin.com//7.2.3.1//EN
TZID:Europe/Berlin
X-WR-TIMEZONE:Europe/Berlin
BEGIN:VEVENT
UID:1-128@dmg-ev.de
DTSTART;TZID=Europe/Berlin:20241121T151500
DTEND;TZID=Europe/Berlin:20241121T163000
DTSTAMP:20241107T220514Z
URL:https://www.dmg-ev.de/veranstaltungen/9-fachsitzung-2024/
SUMMARY:9. Fachsitzung 2024
DESCRIPTION:Vortrag von Dr. Julian Quinting (KIT)
CATEGORIES:Sektion Frankfurt
LOCATION:Deutscher Wetterdienst (Gartensaal)\, Frankfurter Straße 135\, Of
 fenbach am Main\, 63067\, Deutschland
X-APPLE-STRUCTURED-LOCATION;VALUE=URI;X-ADDRESS=Frankfurter Straße 135\, O
 ffenbach am Main\, 63067\, Deutschland;X-APPLE-RADIUS=100;X-TITLE=Deutsche
 r Wetterdienst (Gartensaal):geo:0,0
END:VEVENT
BEGIN:VTIMEZONE
TZID:Europe/Berlin
X-LIC-LOCATION:Europe/Berlin
BEGIN:STANDARD
DTSTART:20241027T020000
TZOFFSETFROM:+0200
TZOFFSETTO:+0100
TZNAME:CET
END:STANDARD
END:VTIMEZONE
END:VCALENDAR