BEGIN:VCALENDAR
VERSION:2.0
PRODID:-//wp-events-plugin.com//7.2.3.1//EN
TZID:Europe/Berlin
X-WR-TIMEZONE:Europe/Berlin
BEGIN:VEVENT
UID:1-111@dmg-ev.de
DTSTART;TZID=Europe/Berlin:20240619T151500
DTEND;TZID=Europe/Berlin:20240619T163000
DTSTAMP:20240531T151301Z
URL:https://www.dmg-ev.de/veranstaltungen/6-fachsitzung-2024/
SUMMARY:6. Fachsitzung 2024
DESCRIPTION:Vortrag von Dr. Anke Kniffka (Zentrum für Medizin-Meteorologis
 che Forschung des DWD)
CATEGORIES:Sektion Frankfurt
LOCATION:Physikhochhaus des KIT (Raum 6/1 im 6. Stock)\, Wolfgang-Gaede-Str
 aße 1\, Karlsruhe\, Baden-Württemberg\, 76131\, Deutschland
X-APPLE-STRUCTURED-LOCATION;VALUE=URI;X-ADDRESS=Wolfgang-Gaede-Straße 1\, 
 Karlsruhe\, Baden-Württemberg\, 76131\, Deutschland;X-APPLE-RADIUS=100;X-
 TITLE=Physikhochhaus des KIT (Raum 6/1 im 6. Stock):geo:0,0
END:VEVENT
BEGIN:VTIMEZONE
TZID:Europe/Berlin
X-LIC-LOCATION:Europe/Berlin
BEGIN:DAYLIGHT
DTSTART:20240331T030000
TZOFFSETFROM:+0100
TZOFFSETTO:+0200
TZNAME:CEST
END:DAYLIGHT
END:VTIMEZONE
END:VCALENDAR