BEGIN:VCALENDAR
VERSION:2.0
PRODID:-//wp-events-plugin.com//7.2.3.1//EN
TZID:Europe/Berlin
X-WR-TIMEZONE:Europe/Berlin
BEGIN:VEVENT
UID:1-121@dmg-ev.de
DTSTART;TZID=Europe/Berlin:20240614T190000
DTEND;TZID=Europe/Berlin:20240614T200000
DTSTAMP:20240602T105810Z
URL:https://www.dmg-ev.de/veranstaltungen/14-06-2024-online-themenabend-to
 rnado/
SUMMARY:14.06.2024 - Online-Themenabend "Tornado"
DESCRIPTION:Tornados erreichen die höchste Windgeschwindigkeit aller Stür
 me auf der Erde. Aber was sind Tornados eigentlich? Wie und warum entstehe
 n sie? Wo treten sie auf? Welche Gefahren gehen von ihnen aus? Wie kann ma
 n sich davor schützen? Kann man sie vorhersagen? - Viele Fragen\, auf die
  Andreas Kollmohr von "Skywarn Deutschland" in seinem Vortag Antworten geb
 en möchte.
ATTACH;FMTTYPE=image/jpeg:https://www.dmg-ev.de/wp-content/uploads/2024/05
 /140624.jpg
CATEGORIES:FA Amateurmeteorologie
END:VEVENT
BEGIN:VTIMEZONE
TZID:Europe/Berlin
X-LIC-LOCATION:Europe/Berlin
BEGIN:DAYLIGHT
DTSTART:20240331T030000
TZOFFSETFROM:+0100
TZOFFSETTO:+0200
TZNAME:CEST
END:DAYLIGHT
END:VTIMEZONE
END:VCALENDAR